BEGIN:VCALENDAR
VERSION:2.0
PRODID:-//HZV - ECPv6.15.12.2//NONSGML v1.0//EN
CALSCALE:GREGORIAN
METHOD:PUBLISH
X-ORIGINAL-URL://hzv.fr
X-WR-CALDESC:Évènements pour HZV
REFRESH-INTERVAL;VALUE=DURATION:PT1H
X-Robots-Tag:noindex
X-PUBLISHED-TTL:PT1H
BEGIN:VTIMEZONE
TZID:Europe/Paris
BEGIN:DAYLIGHT
TZOFFSETFROM:+0100
TZOFFSETTO:+0200
TZNAME:CEST
DTSTART:20270328T010000
END:DAYLIGHT
BEGIN:STANDARD
TZOFFSETFROM:+0200
TZOFFSETTO:+0100
TZNAME:CET
DTSTART:20271031T010000
END:STANDARD
BEGIN:DAYLIGHT
TZOFFSETFROM:+0100
TZOFFSETTO:+0200
TZNAME:CEST
DTSTART:20280326T010000
END:DAYLIGHT
BEGIN:STANDARD
TZOFFSETFROM:+0200
TZOFFSETTO:+0100
TZNAME:CET
DTSTART:20281029T010000
END:STANDARD
BEGIN:DAYLIGHT
TZOFFSETFROM:+0100
TZOFFSETTO:+0200
TZNAME:CEST
DTSTART:20290325T010000
END:DAYLIGHT
BEGIN:STANDARD
TZOFFSETFROM:+0200
TZOFFSETTO:+0100
TZNAME:CET
DTSTART:20291028T010000
END:STANDARD
BEGIN:DAYLIGHT
TZOFFSETFROM:+0100
TZOFFSETTO:+0200
TZNAME:CEST
DTSTART:20300331T010000
END:DAYLIGHT
BEGIN:STANDARD
TZOFFSETFROM:+0200
TZOFFSETTO:+0100
TZNAME:CET
DTSTART:20301027T010000
END:STANDARD
BEGIN:DAYLIGHT
TZOFFSETFROM:+0100
TZOFFSETTO:+0200
TZNAME:CEST
DTSTART:20310330T010000
END:DAYLIGHT
BEGIN:STANDARD
TZOFFSETFROM:+0200
TZOFFSETTO:+0100
TZNAME:CET
DTSTART:20311026T010000
END:STANDARD
BEGIN:DAYLIGHT
TZOFFSETFROM:+0100
TZOFFSETTO:+0200
TZNAME:CEST
DTSTART:20320328T010000
END:DAYLIGHT
BEGIN:STANDARD
TZOFFSETFROM:+0200
TZOFFSETTO:+0100
TZNAME:CET
DTSTART:20321031T010000
END:STANDARD
END:VTIMEZONE
BEGIN:VEVENT
DTSTART;TZID=Europe/Paris:20280902T170000
DTEND;TZID=Europe/Paris:20280902T200000
DTSTAMP:20260423T144804
CREATED:20260307T160148Z
LAST-MODIFIED:20260307T160150Z
UID:10000047-1851526800-1851537600@hzv.fr
SUMMARY:Meet HZV !
DESCRIPTION:Tous les premiers Samedi de chaque mois à partir de 17h\nRendez-vous à La Générale39 rue Gassendi\, Paris XIVMetro Mouton Duvernet ligne 4 \nL’entrée se fait rue Gassendi\, c’est une grille qui donne sur ce qui a l’apparence d’un parc\, il y a une rampe sur la gauche\, descendez-la pour atteindre la cour. \nConférence / Talk\nPas de talk prévu pour l’instant \n \nPour le prochain meet\, à vous de proposer: \n\n\nSi vous voulez faire une mini-conf ou un atelier pour les prochains meets envoyez un mail à
URL://hzv.fr/event/meet-hzv/2028-09-02/
LOCATION:La Générale Nord-ouest\, 39 rue Gassendi\, PARIS\, 75014\, France
CATEGORIES:MEET
ATTACH;FMTTYPE=image/jpeg://hzv.fr/storage/2021/11/skull3-1.jpg
END:VEVENT
BEGIN:VEVENT
DTSTART;TZID=Europe/Paris:20281007T170000
DTEND;TZID=Europe/Paris:20281007T200000
DTSTAMP:20260423T144804
CREATED:20260307T160148Z
LAST-MODIFIED:20260307T160150Z
UID:10000048-1854550800-1854561600@hzv.fr
SUMMARY:Meet HZV !
DESCRIPTION:Tous les premiers Samedi de chaque mois à partir de 17h\nRendez-vous à La Générale39 rue Gassendi\, Paris XIVMetro Mouton Duvernet ligne 4 \nL’entrée se fait rue Gassendi\, c’est une grille qui donne sur ce qui a l’apparence d’un parc\, il y a une rampe sur la gauche\, descendez-la pour atteindre la cour. \nConférence / Talk\nPas de talk prévu pour l’instant \n \nPour le prochain meet\, à vous de proposer: \n\n\nSi vous voulez faire une mini-conf ou un atelier pour les prochains meets envoyez un mail à
URL://hzv.fr/event/meet-hzv/2028-10-07/
LOCATION:La Générale Nord-ouest\, 39 rue Gassendi\, PARIS\, 75014\, France
CATEGORIES:MEET
ATTACH;FMTTYPE=image/jpeg://hzv.fr/storage/2021/11/skull3-1.jpg
END:VEVENT
BEGIN:VEVENT
DTSTART;TZID=Europe/Paris:20281104T170000
DTEND;TZID=Europe/Paris:20281104T200000
DTSTAMP:20260423T144804
CREATED:20260307T160148Z
LAST-MODIFIED:20260307T160150Z
UID:10000049-1856970000-1856980800@hzv.fr
SUMMARY:Meet HZV !
DESCRIPTION:Tous les premiers Samedi de chaque mois à partir de 17h\nRendez-vous à La Générale39 rue Gassendi\, Paris XIVMetro Mouton Duvernet ligne 4 \nL’entrée se fait rue Gassendi\, c’est une grille qui donne sur ce qui a l’apparence d’un parc\, il y a une rampe sur la gauche\, descendez-la pour atteindre la cour. \nConférence / Talk\nPas de talk prévu pour l’instant \n \nPour le prochain meet\, à vous de proposer: \n\n\nSi vous voulez faire une mini-conf ou un atelier pour les prochains meets envoyez un mail à
URL://hzv.fr/event/meet-hzv/2028-11-04/
LOCATION:La Générale Nord-ouest\, 39 rue Gassendi\, PARIS\, 75014\, France
CATEGORIES:MEET
ATTACH;FMTTYPE=image/jpeg://hzv.fr/storage/2021/11/skull3-1.jpg
END:VEVENT
BEGIN:VEVENT
DTSTART;TZID=Europe/Paris:20281202T170000
DTEND;TZID=Europe/Paris:20281202T200000
DTSTAMP:20260423T144804
CREATED:20260307T160148Z
LAST-MODIFIED:20260307T160150Z
UID:10000050-1859389200-1859400000@hzv.fr
SUMMARY:Meet HZV !
DESCRIPTION:Tous les premiers Samedi de chaque mois à partir de 17h\nRendez-vous à La Générale39 rue Gassendi\, Paris XIVMetro Mouton Duvernet ligne 4 \nL’entrée se fait rue Gassendi\, c’est une grille qui donne sur ce qui a l’apparence d’un parc\, il y a une rampe sur la gauche\, descendez-la pour atteindre la cour. \nConférence / Talk\nPas de talk prévu pour l’instant \n \nPour le prochain meet\, à vous de proposer: \n\n\nSi vous voulez faire une mini-conf ou un atelier pour les prochains meets envoyez un mail à
URL://hzv.fr/event/meet-hzv/2028-12-02/
LOCATION:La Générale Nord-ouest\, 39 rue Gassendi\, PARIS\, 75014\, France
CATEGORIES:MEET
ATTACH;FMTTYPE=image/jpeg://hzv.fr/storage/2021/11/skull3-1.jpg
END:VEVENT
BEGIN:VEVENT
DTSTART;TZID=Europe/Paris:20290203T170000
DTEND;TZID=Europe/Paris:20290203T200000
DTSTAMP:20260423T144804
CREATED:20260307T160148Z
LAST-MODIFIED:20260307T160150Z
UID:10000051-1864832400-1864843200@hzv.fr
SUMMARY:Meet HZV !
DESCRIPTION:Tous les premiers Samedi de chaque mois à partir de 17h\nRendez-vous à La Générale39 rue Gassendi\, Paris XIVMetro Mouton Duvernet ligne 4 \nL’entrée se fait rue Gassendi\, c’est une grille qui donne sur ce qui a l’apparence d’un parc\, il y a une rampe sur la gauche\, descendez-la pour atteindre la cour. \nConférence / Talk\nPas de talk prévu pour l’instant \n \nPour le prochain meet\, à vous de proposer: \n\n\nSi vous voulez faire une mini-conf ou un atelier pour les prochains meets envoyez un mail à
URL://hzv.fr/event/meet-hzv/2029-02-03/
LOCATION:La Générale Nord-ouest\, 39 rue Gassendi\, PARIS\, 75014\, France
CATEGORIES:MEET
ATTACH;FMTTYPE=image/jpeg://hzv.fr/storage/2021/11/skull3-1.jpg
END:VEVENT
BEGIN:VEVENT
DTSTART;TZID=Europe/Paris:20290303T170000
DTEND;TZID=Europe/Paris:20290303T200000
DTSTAMP:20260423T144804
CREATED:20260307T160148Z
LAST-MODIFIED:20260307T160150Z
UID:10000052-1867251600-1867262400@hzv.fr
SUMMARY:Meet HZV !
DESCRIPTION:Tous les premiers Samedi de chaque mois à partir de 17h\nRendez-vous à La Générale39 rue Gassendi\, Paris XIVMetro Mouton Duvernet ligne 4 \nL’entrée se fait rue Gassendi\, c’est une grille qui donne sur ce qui a l’apparence d’un parc\, il y a une rampe sur la gauche\, descendez-la pour atteindre la cour. \nConférence / Talk\nPas de talk prévu pour l’instant \n \nPour le prochain meet\, à vous de proposer: \n\n\nSi vous voulez faire une mini-conf ou un atelier pour les prochains meets envoyez un mail à
URL://hzv.fr/event/meet-hzv/2029-03-03/
LOCATION:La Générale Nord-ouest\, 39 rue Gassendi\, PARIS\, 75014\, France
CATEGORIES:MEET
ATTACH;FMTTYPE=image/jpeg://hzv.fr/storage/2021/11/skull3-1.jpg
END:VEVENT
BEGIN:VEVENT
DTSTART;TZID=Europe/Paris:20290407T170000
DTEND;TZID=Europe/Paris:20290407T200000
DTSTAMP:20260423T144804
CREATED:20260307T160148Z
LAST-MODIFIED:20260307T160150Z
UID:10000053-1870275600-1870286400@hzv.fr
SUMMARY:Meet HZV !
DESCRIPTION:Tous les premiers Samedi de chaque mois à partir de 17h\nRendez-vous à La Générale39 rue Gassendi\, Paris XIVMetro Mouton Duvernet ligne 4 \nL’entrée se fait rue Gassendi\, c’est une grille qui donne sur ce qui a l’apparence d’un parc\, il y a une rampe sur la gauche\, descendez-la pour atteindre la cour. \nConférence / Talk\nPas de talk prévu pour l’instant \n \nPour le prochain meet\, à vous de proposer: \n\n\nSi vous voulez faire une mini-conf ou un atelier pour les prochains meets envoyez un mail à
URL://hzv.fr/event/meet-hzv/2029-04-07/
LOCATION:La Générale Nord-ouest\, 39 rue Gassendi\, PARIS\, 75014\, France
CATEGORIES:MEET
ATTACH;FMTTYPE=image/jpeg://hzv.fr/storage/2021/11/skull3-1.jpg
END:VEVENT
BEGIN:VEVENT
DTSTART;TZID=Europe/Paris:20290505T170000
DTEND;TZID=Europe/Paris:20290505T200000
DTSTAMP:20260423T144804
CREATED:20260307T160148Z
LAST-MODIFIED:20260307T160150Z
UID:10000054-1872694800-1872705600@hzv.fr
SUMMARY:Meet HZV !
DESCRIPTION:Tous les premiers Samedi de chaque mois à partir de 17h\nRendez-vous à La Générale39 rue Gassendi\, Paris XIVMetro Mouton Duvernet ligne 4 \nL’entrée se fait rue Gassendi\, c’est une grille qui donne sur ce qui a l’apparence d’un parc\, il y a une rampe sur la gauche\, descendez-la pour atteindre la cour. \nConférence / Talk\nPas de talk prévu pour l’instant \n \nPour le prochain meet\, à vous de proposer: \n\n\nSi vous voulez faire une mini-conf ou un atelier pour les prochains meets envoyez un mail à
URL://hzv.fr/event/meet-hzv/2029-05-05/
LOCATION:La Générale Nord-ouest\, 39 rue Gassendi\, PARIS\, 75014\, France
CATEGORIES:MEET
ATTACH;FMTTYPE=image/jpeg://hzv.fr/storage/2021/11/skull3-1.jpg
END:VEVENT
BEGIN:VEVENT
DTSTART;TZID=Europe/Paris:20290602T170000
DTEND;TZID=Europe/Paris:20290602T233000
DTSTAMP:20260423T144804
CREATED:20230201T135122Z
LAST-MODIFIED:20251212T155658Z
UID:10000076-1875114000-1875137400@hzv.fr
SUMMARY:Meet HZV ! ☀️♨️🍖🔥🥩
DESCRIPTION:Meet de juin : Barbecue annuel\nRendez-vous à l’Electrolab52 rue Paul Lescop\, NanterreRER Nanterre Ville \nConférence / Talk / Barbecue\nPas de talk prévu pour l’instant. \nPar contre\, un barbecue aura lieu n’hésitez pas à apporter vos victuailles à grignoter\, à griller ou à boire. \n \nPour le prochain meet\, à vous de proposer: \n\n\nSi vous voulez faire une mini-conf ou un atelier pour les prochains meets envoyez un mail à
URL://hzv.fr/event/meet-hzv-2025-01-04-2025-06-07/2029-06-02/
LOCATION:ELECTROLAB\, 52 Rue Paul Lescop\, Nanterre\, 92000\, France
CATEGORIES:MEET
ATTACH;FMTTYPE=image/jpeg://hzv.fr/storage/2021/11/skull3-1.jpg
END:VEVENT
BEGIN:VEVENT
DTSTART;TZID=Europe/Paris:20290901T170000
DTEND;TZID=Europe/Paris:20290901T200000
DTSTAMP:20260423T144804
CREATED:20260307T160148Z
LAST-MODIFIED:20260307T160150Z
UID:10000058-1882976400-1882987200@hzv.fr
SUMMARY:Meet HZV !
DESCRIPTION:Tous les premiers Samedi de chaque mois à partir de 17h\nRendez-vous à La Générale39 rue Gassendi\, Paris XIVMetro Mouton Duvernet ligne 4 \nL’entrée se fait rue Gassendi\, c’est une grille qui donne sur ce qui a l’apparence d’un parc\, il y a une rampe sur la gauche\, descendez-la pour atteindre la cour. \nConférence / Talk\nPas de talk prévu pour l’instant \n \nPour le prochain meet\, à vous de proposer: \n\n\nSi vous voulez faire une mini-conf ou un atelier pour les prochains meets envoyez un mail à
URL://hzv.fr/event/meet-hzv/2029-09-01/
LOCATION:La Générale Nord-ouest\, 39 rue Gassendi\, PARIS\, 75014\, France
CATEGORIES:MEET
ATTACH;FMTTYPE=image/jpeg://hzv.fr/storage/2021/11/skull3-1.jpg
END:VEVENT
BEGIN:VEVENT
DTSTART;TZID=Europe/Paris:20291006T170000
DTEND;TZID=Europe/Paris:20291006T200000
DTSTAMP:20260423T144804
CREATED:20260307T160148Z
LAST-MODIFIED:20260307T160150Z
UID:10000059-1886000400-1886011200@hzv.fr
SUMMARY:Meet HZV !
DESCRIPTION:Tous les premiers Samedi de chaque mois à partir de 17h\nRendez-vous à La Générale39 rue Gassendi\, Paris XIVMetro Mouton Duvernet ligne 4 \nL’entrée se fait rue Gassendi\, c’est une grille qui donne sur ce qui a l’apparence d’un parc\, il y a une rampe sur la gauche\, descendez-la pour atteindre la cour. \nConférence / Talk\nPas de talk prévu pour l’instant \n \nPour le prochain meet\, à vous de proposer: \n\n\nSi vous voulez faire une mini-conf ou un atelier pour les prochains meets envoyez un mail à
URL://hzv.fr/event/meet-hzv/2029-10-06/
LOCATION:La Générale Nord-ouest\, 39 rue Gassendi\, PARIS\, 75014\, France
CATEGORIES:MEET
ATTACH;FMTTYPE=image/jpeg://hzv.fr/storage/2021/11/skull3-1.jpg
END:VEVENT
BEGIN:VEVENT
DTSTART;TZID=Europe/Paris:20291103T170000
DTEND;TZID=Europe/Paris:20291103T200000
DTSTAMP:20260423T144804
CREATED:20260307T160148Z
LAST-MODIFIED:20260307T160150Z
UID:10000060-1888419600-1888430400@hzv.fr
SUMMARY:Meet HZV !
DESCRIPTION:Tous les premiers Samedi de chaque mois à partir de 17h\nRendez-vous à La Générale39 rue Gassendi\, Paris XIVMetro Mouton Duvernet ligne 4 \nL’entrée se fait rue Gassendi\, c’est une grille qui donne sur ce qui a l’apparence d’un parc\, il y a une rampe sur la gauche\, descendez-la pour atteindre la cour. \nConférence / Talk\nPas de talk prévu pour l’instant \n \nPour le prochain meet\, à vous de proposer: \n\n\nSi vous voulez faire une mini-conf ou un atelier pour les prochains meets envoyez un mail à
URL://hzv.fr/event/meet-hzv/2029-11-03/
LOCATION:La Générale Nord-ouest\, 39 rue Gassendi\, PARIS\, 75014\, France
CATEGORIES:MEET
ATTACH;FMTTYPE=image/jpeg://hzv.fr/storage/2021/11/skull3-1.jpg
END:VEVENT
BEGIN:VEVENT
DTSTART;TZID=Europe/Paris:20291201T170000
DTEND;TZID=Europe/Paris:20291201T200000
DTSTAMP:20260423T144804
CREATED:20260307T160148Z
LAST-MODIFIED:20260307T160150Z
UID:10000061-1890838800-1890849600@hzv.fr
SUMMARY:Meet HZV !
DESCRIPTION:Tous les premiers Samedi de chaque mois à partir de 17h\nRendez-vous à La Générale39 rue Gassendi\, Paris XIVMetro Mouton Duvernet ligne 4 \nL’entrée se fait rue Gassendi\, c’est une grille qui donne sur ce qui a l’apparence d’un parc\, il y a une rampe sur la gauche\, descendez-la pour atteindre la cour. \nConférence / Talk\nPas de talk prévu pour l’instant \n \nPour le prochain meet\, à vous de proposer: \n\n\nSi vous voulez faire une mini-conf ou un atelier pour les prochains meets envoyez un mail à
URL://hzv.fr/event/meet-hzv/2029-12-01/
LOCATION:La Générale Nord-ouest\, 39 rue Gassendi\, PARIS\, 75014\, France
CATEGORIES:MEET
ATTACH;FMTTYPE=image/jpeg://hzv.fr/storage/2021/11/skull3-1.jpg
END:VEVENT
BEGIN:VEVENT
DTSTART;TZID=Europe/Paris:20300202T170000
DTEND;TZID=Europe/Paris:20300202T200000
DTSTAMP:20260423T144804
CREATED:20260307T160148Z
LAST-MODIFIED:20260307T160150Z
UID:10000062-1896282000-1896292800@hzv.fr
SUMMARY:Meet HZV !
DESCRIPTION:Tous les premiers Samedi de chaque mois à partir de 17h\nRendez-vous à La Générale39 rue Gassendi\, Paris XIVMetro Mouton Duvernet ligne 4 \nL’entrée se fait rue Gassendi\, c’est une grille qui donne sur ce qui a l’apparence d’un parc\, il y a une rampe sur la gauche\, descendez-la pour atteindre la cour. \nConférence / Talk\nPas de talk prévu pour l’instant \n \nPour le prochain meet\, à vous de proposer: \n\n\nSi vous voulez faire une mini-conf ou un atelier pour les prochains meets envoyez un mail à
URL://hzv.fr/event/meet-hzv/2030-02-02/
LOCATION:La Générale Nord-ouest\, 39 rue Gassendi\, PARIS\, 75014\, France
CATEGORIES:MEET
ATTACH;FMTTYPE=image/jpeg://hzv.fr/storage/2021/11/skull3-1.jpg
END:VEVENT
BEGIN:VEVENT
DTSTART;TZID=Europe/Paris:20300302T170000
DTEND;TZID=Europe/Paris:20300302T200000
DTSTAMP:20260423T144804
CREATED:20260307T160148Z
LAST-MODIFIED:20260307T160150Z
UID:10000063-1898701200-1898712000@hzv.fr
SUMMARY:Meet HZV !
DESCRIPTION:Tous les premiers Samedi de chaque mois à partir de 17h\nRendez-vous à La Générale39 rue Gassendi\, Paris XIVMetro Mouton Duvernet ligne 4 \nL’entrée se fait rue Gassendi\, c’est une grille qui donne sur ce qui a l’apparence d’un parc\, il y a une rampe sur la gauche\, descendez-la pour atteindre la cour. \nConférence / Talk\nPas de talk prévu pour l’instant \n \nPour le prochain meet\, à vous de proposer: \n\n\nSi vous voulez faire une mini-conf ou un atelier pour les prochains meets envoyez un mail à
URL://hzv.fr/event/meet-hzv/2030-03-02/
LOCATION:La Générale Nord-ouest\, 39 rue Gassendi\, PARIS\, 75014\, France
CATEGORIES:MEET
ATTACH;FMTTYPE=image/jpeg://hzv.fr/storage/2021/11/skull3-1.jpg
END:VEVENT
BEGIN:VEVENT
DTSTART;TZID=Europe/Paris:20300406T170000
DTEND;TZID=Europe/Paris:20300406T200000
DTSTAMP:20260423T144804
CREATED:20260307T160148Z
LAST-MODIFIED:20260307T160150Z
UID:10000064-1901725200-1901736000@hzv.fr
SUMMARY:Meet HZV !
DESCRIPTION:Tous les premiers Samedi de chaque mois à partir de 17h\nRendez-vous à La Générale39 rue Gassendi\, Paris XIVMetro Mouton Duvernet ligne 4 \nL’entrée se fait rue Gassendi\, c’est une grille qui donne sur ce qui a l’apparence d’un parc\, il y a une rampe sur la gauche\, descendez-la pour atteindre la cour. \nConférence / Talk\nPas de talk prévu pour l’instant \n \nPour le prochain meet\, à vous de proposer: \n\n\nSi vous voulez faire une mini-conf ou un atelier pour les prochains meets envoyez un mail à
URL://hzv.fr/event/meet-hzv/2030-04-06/
LOCATION:La Générale Nord-ouest\, 39 rue Gassendi\, PARIS\, 75014\, France
CATEGORIES:MEET
ATTACH;FMTTYPE=image/jpeg://hzv.fr/storage/2021/11/skull3-1.jpg
END:VEVENT
BEGIN:VEVENT
DTSTART;TZID=Europe/Paris:20300504T170000
DTEND;TZID=Europe/Paris:20300504T200000
DTSTAMP:20260423T144804
CREATED:20260307T160148Z
LAST-MODIFIED:20260307T160150Z
UID:10000065-1904144400-1904155200@hzv.fr
SUMMARY:Meet HZV !
DESCRIPTION:Tous les premiers Samedi de chaque mois à partir de 17h\nRendez-vous à La Générale39 rue Gassendi\, Paris XIVMetro Mouton Duvernet ligne 4 \nL’entrée se fait rue Gassendi\, c’est une grille qui donne sur ce qui a l’apparence d’un parc\, il y a une rampe sur la gauche\, descendez-la pour atteindre la cour. \nConférence / Talk\nPas de talk prévu pour l’instant \n \nPour le prochain meet\, à vous de proposer: \n\n\nSi vous voulez faire une mini-conf ou un atelier pour les prochains meets envoyez un mail à
URL://hzv.fr/event/meet-hzv/2030-05-04/
LOCATION:La Générale Nord-ouest\, 39 rue Gassendi\, PARIS\, 75014\, France
CATEGORIES:MEET
ATTACH;FMTTYPE=image/jpeg://hzv.fr/storage/2021/11/skull3-1.jpg
END:VEVENT
BEGIN:VEVENT
DTSTART;TZID=Europe/Paris:20300601T170000
DTEND;TZID=Europe/Paris:20300601T233000
DTSTAMP:20260423T144804
CREATED:20230201T135122Z
LAST-MODIFIED:20251212T155658Z
UID:10000077-1906563600-1906587000@hzv.fr
SUMMARY:Meet HZV ! ☀️♨️🍖🔥🥩
DESCRIPTION:Meet de juin : Barbecue annuel\nRendez-vous à l’Electrolab52 rue Paul Lescop\, NanterreRER Nanterre Ville \nConférence / Talk / Barbecue\nPas de talk prévu pour l’instant. \nPar contre\, un barbecue aura lieu n’hésitez pas à apporter vos victuailles à grignoter\, à griller ou à boire. \n \nPour le prochain meet\, à vous de proposer: \n\n\nSi vous voulez faire une mini-conf ou un atelier pour les prochains meets envoyez un mail à
URL://hzv.fr/event/meet-hzv-2025-01-04-2025-06-07/2030-06-01/
LOCATION:ELECTROLAB\, 52 Rue Paul Lescop\, Nanterre\, 92000\, France
CATEGORIES:MEET
ATTACH;FMTTYPE=image/jpeg://hzv.fr/storage/2021/11/skull3-1.jpg
END:VEVENT
BEGIN:VEVENT
DTSTART;TZID=Europe/Paris:20300907T170000
DTEND;TZID=Europe/Paris:20300907T200000
DTSTAMP:20260423T144804
CREATED:20260307T160148Z
LAST-MODIFIED:20260307T160150Z
UID:10000069-1915030800-1915041600@hzv.fr
SUMMARY:Meet HZV !
DESCRIPTION:Tous les premiers Samedi de chaque mois à partir de 17h\nRendez-vous à La Générale39 rue Gassendi\, Paris XIVMetro Mouton Duvernet ligne 4 \nL’entrée se fait rue Gassendi\, c’est une grille qui donne sur ce qui a l’apparence d’un parc\, il y a une rampe sur la gauche\, descendez-la pour atteindre la cour. \nConférence / Talk\nPas de talk prévu pour l’instant \n \nPour le prochain meet\, à vous de proposer: \n\n\nSi vous voulez faire une mini-conf ou un atelier pour les prochains meets envoyez un mail à
URL://hzv.fr/event/meet-hzv/2030-09-07/
LOCATION:La Générale Nord-ouest\, 39 rue Gassendi\, PARIS\, 75014\, France
CATEGORIES:MEET
ATTACH;FMTTYPE=image/jpeg://hzv.fr/storage/2021/11/skull3-1.jpg
END:VEVENT
BEGIN:VEVENT
DTSTART;TZID=Europe/Paris:20301005T170000
DTEND;TZID=Europe/Paris:20301005T200000
DTSTAMP:20260423T144804
CREATED:20260307T160148Z
LAST-MODIFIED:20260307T160150Z
UID:10000070-1917450000-1917460800@hzv.fr
SUMMARY:Meet HZV !
DESCRIPTION:Tous les premiers Samedi de chaque mois à partir de 17h\nRendez-vous à La Générale39 rue Gassendi\, Paris XIVMetro Mouton Duvernet ligne 4 \nL’entrée se fait rue Gassendi\, c’est une grille qui donne sur ce qui a l’apparence d’un parc\, il y a une rampe sur la gauche\, descendez-la pour atteindre la cour. \nConférence / Talk\nPas de talk prévu pour l’instant \n \nPour le prochain meet\, à vous de proposer: \n\n\nSi vous voulez faire une mini-conf ou un atelier pour les prochains meets envoyez un mail à
URL://hzv.fr/event/meet-hzv/2030-10-05/
LOCATION:La Générale Nord-ouest\, 39 rue Gassendi\, PARIS\, 75014\, France
CATEGORIES:MEET
ATTACH;FMTTYPE=image/jpeg://hzv.fr/storage/2021/11/skull3-1.jpg
END:VEVENT
BEGIN:VEVENT
DTSTART;TZID=Europe/Paris:20301102T170000
DTEND;TZID=Europe/Paris:20301102T200000
DTSTAMP:20260423T144804
CREATED:20260307T160148Z
LAST-MODIFIED:20260307T160150Z
UID:10000071-1919869200-1919880000@hzv.fr
SUMMARY:Meet HZV !
DESCRIPTION:Tous les premiers Samedi de chaque mois à partir de 17h\nRendez-vous à La Générale39 rue Gassendi\, Paris XIVMetro Mouton Duvernet ligne 4 \nL’entrée se fait rue Gassendi\, c’est une grille qui donne sur ce qui a l’apparence d’un parc\, il y a une rampe sur la gauche\, descendez-la pour atteindre la cour. \nConférence / Talk\nPas de talk prévu pour l’instant \n \nPour le prochain meet\, à vous de proposer: \n\n\nSi vous voulez faire une mini-conf ou un atelier pour les prochains meets envoyez un mail à
URL://hzv.fr/event/meet-hzv/2030-11-02/
LOCATION:La Générale Nord-ouest\, 39 rue Gassendi\, PARIS\, 75014\, France
CATEGORIES:MEET
ATTACH;FMTTYPE=image/jpeg://hzv.fr/storage/2021/11/skull3-1.jpg
END:VEVENT
BEGIN:VEVENT
DTSTART;TZID=Europe/Paris:20301207T170000
DTEND;TZID=Europe/Paris:20301207T200000
DTSTAMP:20260423T144804
CREATED:20260307T160148Z
LAST-MODIFIED:20260307T160150Z
UID:10000072-1922893200-1922904000@hzv.fr
SUMMARY:Meet HZV !
DESCRIPTION:Tous les premiers Samedi de chaque mois à partir de 17h\nRendez-vous à La Générale39 rue Gassendi\, Paris XIVMetro Mouton Duvernet ligne 4 \nL’entrée se fait rue Gassendi\, c’est une grille qui donne sur ce qui a l’apparence d’un parc\, il y a une rampe sur la gauche\, descendez-la pour atteindre la cour. \nConférence / Talk\nPas de talk prévu pour l’instant \n \nPour le prochain meet\, à vous de proposer: \n\n\nSi vous voulez faire une mini-conf ou un atelier pour les prochains meets envoyez un mail à
URL://hzv.fr/event/meet-hzv/2030-12-07/
LOCATION:La Générale Nord-ouest\, 39 rue Gassendi\, PARIS\, 75014\, France
CATEGORIES:MEET
ATTACH;FMTTYPE=image/jpeg://hzv.fr/storage/2021/11/skull3-1.jpg
END:VEVENT
BEGIN:VEVENT
DTSTART;TZID=Europe/Paris:20310201T170000
DTEND;TZID=Europe/Paris:20310201T200000
DTSTAMP:20260423T144804
CREATED:20260307T160148Z
LAST-MODIFIED:20260307T160150Z
UID:10000079-1927731600-1927742400@hzv.fr
SUMMARY:Meet HZV !
DESCRIPTION:Tous les premiers Samedi de chaque mois à partir de 17h\nRendez-vous à La Générale39 rue Gassendi\, Paris XIVMetro Mouton Duvernet ligne 4 \nL’entrée se fait rue Gassendi\, c’est une grille qui donne sur ce qui a l’apparence d’un parc\, il y a une rampe sur la gauche\, descendez-la pour atteindre la cour. \nConférence / Talk\nPas de talk prévu pour l’instant \n \nPour le prochain meet\, à vous de proposer: \n\n\nSi vous voulez faire une mini-conf ou un atelier pour les prochains meets envoyez un mail à
URL://hzv.fr/event/meet-hzv/2031-02-01/
LOCATION:La Générale Nord-ouest\, 39 rue Gassendi\, PARIS\, 75014\, France
CATEGORIES:MEET
ATTACH;FMTTYPE=image/jpeg://hzv.fr/storage/2021/11/skull3-1.jpg
END:VEVENT
BEGIN:VEVENT
DTSTART;TZID=Europe/Paris:20310301T170000
DTEND;TZID=Europe/Paris:20310301T200000
DTSTAMP:20260423T144804
CREATED:20260307T160148Z
LAST-MODIFIED:20260307T160150Z
UID:10000080-1930150800-1930161600@hzv.fr
SUMMARY:Meet HZV !
DESCRIPTION:Tous les premiers Samedi de chaque mois à partir de 17h\nRendez-vous à La Générale39 rue Gassendi\, Paris XIVMetro Mouton Duvernet ligne 4 \nL’entrée se fait rue Gassendi\, c’est une grille qui donne sur ce qui a l’apparence d’un parc\, il y a une rampe sur la gauche\, descendez-la pour atteindre la cour. \nConférence / Talk\nPas de talk prévu pour l’instant \n \nPour le prochain meet\, à vous de proposer: \n\n\nSi vous voulez faire une mini-conf ou un atelier pour les prochains meets envoyez un mail à
URL://hzv.fr/event/meet-hzv/2031-03-01/
LOCATION:La Générale Nord-ouest\, 39 rue Gassendi\, PARIS\, 75014\, France
CATEGORIES:MEET
ATTACH;FMTTYPE=image/jpeg://hzv.fr/storage/2021/11/skull3-1.jpg
END:VEVENT
END:VCALENDAR